BEGIN:VCALENDAR
PRODID:-//Pixl8//Eventfolio//EN
VERSION:2.0
X-WR-TIMEZONE:Australia/Brisbane
CALSCALE:GREGORIAN
METHOD:PUBLISH
CLASS:PUBLIC
BEGIN:VTIMEZONE
TZID:Australia/Brisbane
LAST-MODIFIED:20260306T231828Z
TZURL:https://www.tzurl.org/zoneinfo-outlook/Australia/Brisbane
X-LIC-LOCATION:Australia/Brisbane
BEGIN:STANDARD
TZNAME:AEST
TZOFFSETFROM:+1000
TZOFFSETTO:+1000
DTSTART:19700101T000000
END:STANDARD
END:VTIMEZONE
BEGIN:VEVENT
DTSTART;TZID=Australia/Brisbane:20230309T090000
DTEND;TZID=Australia/Brisbane:20230309T120000
DTSTAMP:20260423T210710Z
UID:{73F42023-BB8F-450A-B0836EB08C6E34E5}
LOCATION:Online - Microsoft Teams
SUMMARY:Online Training : Data Security for Data Governance
DESCRIPTION:Every organisation uses/stores huge volumes of data for their day to day operations thus Data Governance is needed greatly as our customers are becoming more aware of the importance of data privacy. The value that we hold in data is greater than before.\n
 \n
 Event details: https://www.rimpa.com.au/events/ems-events-calendar/online-training-data-security-for-data-governance.html
PRIORITY:1
END:VEVENT
END:VCALENDAR