BEGIN:VCALENDAR
PRODID:-//Pixl8//Eventfolio//EN
VERSION:2.0
X-WR-TIMEZONE:Australia/Perth
CALSCALE:GREGORIAN
METHOD:PUBLISH
CLASS:PUBLIC
BEGIN:VTIMEZONE
TZID:Australia/Perth
LAST-MODIFIED:20260306T231828Z
TZURL:https://www.tzurl.org/zoneinfo-outlook/Australia/Perth
X-LIC-LOCATION:Australia/Perth
BEGIN:STANDARD
TZNAME:AWST
TZOFFSETFROM:+0800
TZOFFSETTO:+0800
DTSTART:19700101T000000
END:STANDARD
END:VTIMEZONE
BEGIN:VEVENT
DTSTART;TZID=Australia/Perth:20250731T083000
DTEND;TZID=Australia/Perth:20250731T160000
DTSTAMP:20260423T210716Z
UID:{EE814202-2CA3-4F40-94B33AD19C9CA151.45869}
LOCATION:Four Points by Sheraton\, 707 Wellington Street\, Perth\, Western Australia\, 6000\, Australia
SUMMARY:Perth | Roadshow
DESCRIPTION:Join the RIMPA Roadshow, a one-day conference focused on protecting your organisation's data and privacy. Learn from experts, participate in workshop, to outsmart cyber threats, neutralise risks, and safeguard your organisation’s records with a License to Protect. Register now!\n
 \n
 Event details: https://www.rimpa.com.au/events/ems-events-calendar/perth--roadshow.html
PRIORITY:1
END:VEVENT
END:VCALENDAR