BEGIN:VCALENDAR
PRODID:-//Pixl8//Eventfolio//EN
VERSION:2.0
X-WR-TIMEZONE:Australia/Perth
CALSCALE:GREGORIAN
METHOD:PUBLISH
CLASS:PUBLIC
BEGIN:VTIMEZONE
TZID:Australia/Perth
LAST-MODIFIED:20260306T231828Z
TZURL:https://www.tzurl.org/zoneinfo-outlook/Australia/Perth
X-LIC-LOCATION:Australia/Perth
BEGIN:STANDARD
TZNAME:AWST
TZOFFSETFROM:+0800
TZOFFSETTO:+0800
DTSTART:19700101T000000
END:STANDARD
END:VTIMEZONE
BEGIN:VEVENT
DTSTART;TZID=Australia/Perth:20240606T083000
DTEND;TZID=Australia/Perth:20240606T164500
DTSTAMP:20260424T021314Z
UID:{771718DD-9A85-42F3-97CE5D8D216CC9D6.45449}
LOCATION:Four Points by Sheraton\, 707 Wellington Street\, Perth\, Western Australia\, 6000\, Australia
SUMMARY:Perth | Roadshow
DESCRIPTION:Are you ready to follow the White Rabbit? Unplug from the Matrix and join the Records Revolution, through mind-bending expert presentations at the Perth Roadshow. Dodge cyber bullets with security best practices, uncover information privacy and explore panel discussions and debates that challenge the Oracle’s wisdom. Choose the red pill, rewrite the code of IM and unlock your true potential, to become THE ONE in the future AI Wonderland.\n
 \n
 Event details: https://www.rimpa.com.au/events/ems-events-calendar/perth-roadshow-.html
PRIORITY:1
END:VEVENT
END:VCALENDAR