BEGIN:VCALENDAR
PRODID:-//Pixl8//Eventfolio//EN
VERSION:2.0
X-WR-TIMEZONE:Australia/Perth
CALSCALE:GREGORIAN
METHOD:PUBLISH
CLASS:PUBLIC
BEGIN:VTIMEZONE
TZID:Australia/Perth
LAST-MODIFIED:20260306T231828Z
TZURL:https://www.tzurl.org/zoneinfo-outlook/Australia/Perth
X-LIC-LOCATION:Australia/Perth
BEGIN:STANDARD
TZNAME:AWST
TZOFFSETFROM:+0800
TZOFFSETTO:+0800
DTSTART:19700101T000000
END:STANDARD
END:VTIMEZONE
BEGIN:VEVENT
DTSTART;TZID=Australia/Perth:20230328T123000
DTEND;TZID=Australia/Perth:20230328T190000
DTSTAMP:20260424T034809Z
UID:{20B7A63B-5F0F-4F45-868BF6B412321039.45013}
LOCATION:Four Points by Sheraton\, 707 Wellington Street\, Perth\, Western Australia\, 6000\, Australia
SUMMARY:Perth: The IM Futurist Think Tank Sympoisum
DESCRIPTION:We invite you to join us in March 2023 for "The IM Futurist Think Tank" Symposium in Perth, where you can engage in a deep-dive workshop and welcome reception. The event features a full day of education and learning, bringing together top industry speakers to provide updates on the rapidly evolving records, information, data, and document management landscape, both domestically and internationally.\n
 \n
 Event details: https://www.rimpa.com.au/events/ems-events-calendar/perth-the-im-futurist-think-tank-sympoisum.html
PRIORITY:1
END:VEVENT
BEGIN:VEVENT
DTSTART;TZID=Australia/Perth:20230329T090000
DTEND;TZID=Australia/Perth:20230329T170000
DTSTAMP:20260424T034809Z
UID:{20B7A63B-5F0F-4F45-868BF6B412321039.45014}
LOCATION:Four Points by Sheraton\, 707 Wellington Street\, Perth\, Western Australia\, 6000\, Australia
SUMMARY:Perth: The IM Futurist Think Tank Sympoisum
DESCRIPTION:We invite you to join us in March 2023 for "The IM Futurist Think Tank" Symposium in Perth, where you can engage in a deep-dive workshop and welcome reception. The event features a full day of education and learning, bringing together top industry speakers to provide updates on the rapidly evolving records, information, data, and document management landscape, both domestically and internationally.\n
 \n
 Event details: https://www.rimpa.com.au/events/ems-events-calendar/perth-the-im-futurist-think-tank-sympoisum.html
PRIORITY:1
END:VEVENT
END:VCALENDAR