BEGIN:VCALENDAR
PRODID:-//Pixl8//Eventfolio//EN
VERSION:2.0
X-WR-TIMEZONE:Australia/Brisbane
CALSCALE:GREGORIAN
METHOD:PUBLISH
CLASS:PUBLIC
BEGIN:VTIMEZONE
TZID:Australia/Brisbane
LAST-MODIFIED:20260306T231828Z
TZURL:https://www.tzurl.org/zoneinfo-outlook/Australia/Brisbane
X-LIC-LOCATION:Australia/Brisbane
BEGIN:STANDARD
TZNAME:AEST
TZOFFSETFROM:+1000
TZOFFSETTO:+1000
DTSTART:19700101T000000
END:STANDARD
END:VTIMEZONE
BEGIN:VEVENT
DTSTART;TZID=Australia/Brisbane:20230510T100000
DTEND;TZID=Australia/Brisbane:20230510T130000
DTSTAMP:20260423T210715Z
UID:{29986285-7732-40D9-991DD925BB7B8754}
LOCATION:Online - Microsoft Teams
SUMMARY:Planning for Digital Transformation
DESCRIPTION:Digital transformation: is it just a buzzword, or a word used to confuse all of us? The world is changing and if our organisations don’t change the way we do things we will not be able to deliver value to our customers.\n
 \n
 Event details: https://www.rimpa.com.au/events/ems-events-calendar/planning-for-digital-transformation.html
PRIORITY:1
END:VEVENT
END:VCALENDAR