BEGIN:VCALENDAR
PRODID:-//Pixl8//Eventfolio//EN
VERSION:2.0
X-WR-TIMEZONE:Australia/Brisbane
CALSCALE:GREGORIAN
METHOD:PUBLISH
CLASS:PUBLIC
BEGIN:VTIMEZONE
TZID:Australia/Brisbane
LAST-MODIFIED:20260306T231828Z
TZURL:https://www.tzurl.org/zoneinfo-outlook/Australia/Brisbane
X-LIC-LOCATION:Australia/Brisbane
BEGIN:STANDARD
TZNAME:AEST
TZOFFSETFROM:+1000
TZOFFSETTO:+1000
DTSTART:19700101T000000
END:STANDARD
END:VTIMEZONE
BEGIN:VEVENT
DTSTART;TZID=Australia/Brisbane:20251113T100000
DTEND;TZID=Australia/Brisbane:20251113T130000
DTSTAMP:20260424T034628Z
UID:{0EEAF654-37A0-4561-B2DDCB7D7619A521}
LOCATION:Online - Microsoft Teams
SUMMARY:Policy Writing for Information Management Professionals
DESCRIPTION:Event details: https://www.rimpa.com.au/events/ems-events-calendar/policy-writing-for-information-management-professionals-13-11-2025.html
PRIORITY:1
END:VEVENT
END:VCALENDAR