BEGIN:VCALENDAR
PRODID:-//Pixl8//Eventfolio//EN
VERSION:2.0
X-WR-TIMEZONE:Australia/Brisbane
CALSCALE:GREGORIAN
METHOD:PUBLISH
CLASS:PUBLIC
BEGIN:VTIMEZONE
TZID:Australia/Brisbane
LAST-MODIFIED:20260306T231828Z
TZURL:https://www.tzurl.org/zoneinfo-outlook/Australia/Brisbane
X-LIC-LOCATION:Australia/Brisbane
BEGIN:STANDARD
TZNAME:AEST
TZOFFSETFROM:+1000
TZOFFSETTO:+1000
DTSTART:19700101T000000
END:STANDARD
END:VTIMEZONE
BEGIN:VEVENT
DTSTART;TZID=Australia/Brisbane:20240319T100000
DTEND;TZID=Australia/Brisbane:20240319T130000
DTSTAMP:20260424T021316Z
UID:{F0B2E6D7-69D3-40B3-AD672C2321A9E233}
LOCATION:Online - Microsoft Teams
SUMMARY:Preparing for Records Management Audit
DESCRIPTION:Do you want a smoother process when working with auditors?\n
 \n
 Event details: https://www.rimpa.com.au/events/ems-events-calendar/preparing-for-records-management-audit.html
PRIORITY:1
END:VEVENT
END:VCALENDAR