BEGIN:VCALENDAR
PRODID:-//Pixl8//Eventfolio//EN
VERSION:2.0
X-WR-TIMEZONE:Australia/Brisbane
CALSCALE:GREGORIAN
METHOD:PUBLISH
CLASS:PUBLIC
BEGIN:VTIMEZONE
TZID:Australia/Brisbane
LAST-MODIFIED:20260306T231828Z
TZURL:https://www.tzurl.org/zoneinfo-outlook/Australia/Brisbane
X-LIC-LOCATION:Australia/Brisbane
BEGIN:STANDARD
TZNAME:AEST
TZOFFSETFROM:+1000
TZOFFSETTO:+1000
DTSTART:19700101T000000
END:STANDARD
END:VTIMEZONE
BEGIN:VEVENT
DTSTART;TZID=Australia/Brisbane:20230719T100000
DTEND;TZID=Australia/Brisbane:20230719T130000
DTSTAMP:20260424T082641Z
UID:{11D88C64-B95D-458F-A2A578A12633C428}
LOCATION:Microsoft Teams 
SUMMARY:Project Management for Implementing an eDRMS
DESCRIPTION:Do we need project management to implement an eDRMS?\n
 \n
 Event details: https://www.rimpa.com.au/events/ems-events-calendar/project-management-for-implementing-an-edrms-19-07-2023.html
PRIORITY:1
END:VEVENT
END:VCALENDAR