BEGIN:VCALENDAR
PRODID:-//Pixl8//Eventfolio//EN
VERSION:2.0
X-WR-TIMEZONE:Australia/Brisbane
CALSCALE:GREGORIAN
METHOD:PUBLISH
CLASS:PUBLIC
BEGIN:VTIMEZONE
TZID:Australia/Brisbane
LAST-MODIFIED:20260306T231828Z
TZURL:https://www.tzurl.org/zoneinfo-outlook/Australia/Brisbane
X-LIC-LOCATION:Australia/Brisbane
BEGIN:STANDARD
TZNAME:AEST
TZOFFSETFROM:+1000
TZOFFSETTO:+1000
DTSTART:19700101T000000
END:STANDARD
END:VTIMEZONE
BEGIN:VEVENT
DTSTART;TZID=Australia/Brisbane:20230525T090000
DTEND;TZID=Australia/Brisbane:20230525T120000
DTSTAMP:20260423T210716Z
UID:{A93E64CC-54CA-487E-A7D77DBEBA7DB0DA}
LOCATION:Online - Microsoft Teams
SUMMARY:Project Management for Information Management Projects
DESCRIPTION:Project Management is a life skill that is essential though we are not all project managers. We have seen ourselves being assigned to work on projects and we try our best to navigate and ensure we deliver the expected results.\n
 \n
 Event details: https://www.rimpa.com.au/events/ems-events-calendar/project-management-for-information-management-projects.html
PRIORITY:1
END:VEVENT
END:VCALENDAR