BEGIN:VCALENDAR
PRODID:-//Pixl8//Eventfolio//EN
VERSION:2.0
X-WR-TIMEZONE:Australia/Brisbane
CALSCALE:GREGORIAN
METHOD:PUBLISH
CLASS:PUBLIC
BEGIN:VTIMEZONE
TZID:Australia/Brisbane
LAST-MODIFIED:20260306T231828Z
TZURL:https://www.tzurl.org/zoneinfo-outlook/Australia/Brisbane
X-LIC-LOCATION:Australia/Brisbane
BEGIN:STANDARD
TZNAME:AEST
TZOFFSETFROM:+1000
TZOFFSETTO:+1000
DTSTART:19700101T000000
END:STANDARD
END:VTIMEZONE
BEGIN:VEVENT
DTSTART;TZID=Australia/Brisbane:20260520T100000
DTEND;TZID=Australia/Brisbane:20260520T130000
DTSTAMP:20260423T185952Z
UID:{AE323993-6A32-4BFA-944EB726503D4BA4}
LOCATION:Online - Microsoft Teams
SUMMARY:Project Management Integration into Records and Information Management
DESCRIPTION:Project Management is a life skill that is essential though we are not all project managers. We have seen ourselves being assigned to work on projects and we try our best to navigate and ensure we deliver the expected results.\n
 \n
 Event details: https://www.rimpa.com.au/events/ems-events-calendar/project-management-integration-into-records-and-information-managemen.html
PRIORITY:1
END:VEVENT
END:VCALENDAR