BEGIN:VCALENDAR
PRODID:-//Pixl8//Eventfolio//EN
VERSION:2.0
X-WR-TIMEZONE:Australia/Brisbane
CALSCALE:GREGORIAN
METHOD:PUBLISH
CLASS:PUBLIC
BEGIN:VTIMEZONE
TZID:Australia/Brisbane
LAST-MODIFIED:20260306T231828Z
TZURL:https://www.tzurl.org/zoneinfo-outlook/Australia/Brisbane
X-LIC-LOCATION:Australia/Brisbane
BEGIN:STANDARD
TZNAME:AEST
TZOFFSETFROM:+1000
TZOFFSETTO:+1000
DTSTART:19700101T000000
END:STANDARD
END:VTIMEZONE
BEGIN:VEVENT
DTSTART;TZID=Australia/Brisbane:20250409T100000
DTEND;TZID=Australia/Brisbane:20250409T130000
DTSTAMP:20260425T072433Z
UID:{B0695F1E-7363-41BC-831AC6A49D44D2BC}
LOCATION:Online - Microsoft Teams
SUMMARY:Records and Information Management Fundamentals
DESCRIPTION:So, what is a record? Isn’t this a question that we ask ourselves? Why do we need to manage records?\n
 \n
 Event details: https://www.rimpa.com.au/events/ems-events-calendar/records-and-information-management-fundamentals-9-4.html
PRIORITY:1
END:VEVENT
END:VCALENDAR