BEGIN:VCALENDAR
PRODID:-//Pixl8//Eventfolio//EN
VERSION:2.0
X-WR-TIMEZONE:Australia/Brisbane
CALSCALE:GREGORIAN
METHOD:PUBLISH
CLASS:PUBLIC
BEGIN:VTIMEZONE
TZID:Australia/Brisbane
LAST-MODIFIED:20260306T231828Z
TZURL:https://www.tzurl.org/zoneinfo-outlook/Australia/Brisbane
X-LIC-LOCATION:Australia/Brisbane
BEGIN:STANDARD
TZNAME:AEST
TZOFFSETFROM:+1000
TZOFFSETTO:+1000
DTSTART:19700101T000000
END:STANDARD
END:VTIMEZONE
BEGIN:VEVENT
DTSTART;TZID=Australia/Brisbane:20251126T120000
DTEND;TZID=Australia/Brisbane:20251126T130000
DTSTAMP:20260424T060441Z
UID:{DD18E114-0FF2-4E5B-BF17FFBFC3CB9B8A}
LOCATION:Microsoft Teams 
SUMMARY:RIMPA Global Annual General Meeting
DESCRIPTION:Join us at the RIMPA Global 50th Annual General Meeting! Key agenda items include the annual report, financial statements, and auditor appointment. Be part of the discussion and stay informed about our activities and future plans.\n
 \n
 Event details: https://www.rimpa.com.au/events/ems-events-calendar/rimpa-global-annual-general-meeting.html
PRIORITY:1
END:VEVENT
END:VCALENDAR