BEGIN:VCALENDAR
PRODID:-//Pixl8//Eventfolio//EN
VERSION:2.0
X-WR-TIMEZONE:Australia/Brisbane
CALSCALE:GREGORIAN
METHOD:PUBLISH
CLASS:PUBLIC
BEGIN:VTIMEZONE
TZID:Australia/Brisbane
LAST-MODIFIED:20260306T231828Z
TZURL:https://www.tzurl.org/zoneinfo-outlook/Australia/Brisbane
X-LIC-LOCATION:Australia/Brisbane
BEGIN:STANDARD
TZNAME:AEST
TZOFFSETFROM:+1000
TZOFFSETTO:+1000
DTSTART:19700101T000000
END:STANDARD
END:VTIMEZONE
BEGIN:VEVENT
DTSTART;TZID=Australia/Brisbane:20230609T090000
DTEND;TZID=Australia/Brisbane:20230609T120000
DTSTAMP:20260423T211530Z
UID:{D68A4EB3-41DA-481A-B2F5E1AF16F348BA}
LOCATION:Online - Microsoft Teams
SUMMARY:Risk Management Development & Implementation
DESCRIPTION:Development and implementation of Risk Management are vital as the business environment keeps on changing and the type of risks that an organisation faces change as well.\n
 \n
 Event details: https://www.rimpa.com.au/events/ems-events-calendar/risk-management-development-implementation-08-06-2023.html
PRIORITY:1
END:VEVENT
END:VCALENDAR