BEGIN:VCALENDAR
PRODID:-//Pixl8//Eventfolio//EN
VERSION:2.0
X-WR-TIMEZONE:Australia/Adelaide
CALSCALE:GREGORIAN
METHOD:PUBLISH
CLASS:PUBLIC
BEGIN:VTIMEZONE
TZID:Australia/Adelaide
LAST-MODIFIED:20260306T231828Z
TZURL:https://www.tzurl.org/zoneinfo-outlook/Australia/Adelaide
X-LIC-LOCATION:Australia/Adelaide
BEGIN:STANDARD
TZNAME:ACST
TZOFFSETFROM:+1030
TZOFFSETTO:+0930
DTSTART:19700405T030000
RRULE:FREQ=YEARLY;BYMONTH=4;BYDAY=1SU
END:STANDARD
BEGIN:DAYLIGHT
TZNAME:ACDT
TZOFFSETFROM:+0930
TZOFFSETTO:+1030
DTSTART:19701004T020000
RRULE:FREQ=YEARLY;BYMONTH=10;BYDAY=1SU
END:DAYLIGHT
END:VTIMEZONE
BEGIN:VEVENT
DTSTART;TZID=Australia/Adelaide:20240814T160000
DTEND;TZID=Australia/Adelaide:20240814T180000
DTSTAMP:20260423T211638Z
UID:{24FC6984-700F-449A-B00E21E32C6CECB0}
LOCATION:DJ's Diner & Bar at Mantra Hindmarsh Square\, 55/67 Hindmarsh Square\, Adelaide SA 5000
SUMMARY:South Australia IM Networking Group
DESCRIPTION:Join us for a networking gathering with lively conversations at the South Australia IM Networking Group's upcoming get-together! Take the opportunity to exchange ideas and experiences with fellow minds and participate in engaging and collaborative discussions. Come together to broaden your perspective, share your insights, and connect!\n
 \n
 Event details: https://www.rimpa.com.au/events/ems-events-calendar/south-australia-im-networking-group.html
PRIORITY:1
END:VEVENT
END:VCALENDAR