BEGIN:VCALENDAR
PRODID:-//Pixl8//Eventfolio//EN
VERSION:2.0
X-WR-TIMEZONE:Australia/Sydney
CALSCALE:GREGORIAN
METHOD:PUBLISH
CLASS:PUBLIC
BEGIN:VTIMEZONE
TZID:Australia/Sydney
LAST-MODIFIED:20260306T231828Z
TZURL:https://www.tzurl.org/zoneinfo-outlook/Australia/Sydney
X-LIC-LOCATION:Australia/Sydney
BEGIN:STANDARD
TZNAME:AEST
TZOFFSETFROM:+1100
TZOFFSETTO:+1000
DTSTART:19700405T030000
RRULE:FREQ=YEARLY;BYMONTH=4;BYDAY=1SU
END:STANDARD
BEGIN:DAYLIGHT
TZNAME:AEDT
TZOFFSETFROM:+1000
TZOFFSETTO:+1100
DTSTART:19701004T020000
RRULE:FREQ=YEARLY;BYMONTH=10;BYDAY=1SU
END:DAYLIGHT
END:VTIMEZONE
BEGIN:VEVENT
DTSTART;TZID=Australia/Sydney:20230620T083000
DTEND;TZID=Australia/Sydney:20230620T174500
DTSTAMP:20260423T210807Z
UID:{03F74467-63B9-4BD0-BD61AC2B08ED922D.45097}
LOCATION:Sydney Masonic Centre\, 66 Goulburn St\, Sydney NSW 2000
SUMMARY:Sydney | Roadshow
DESCRIPTION:Are you ready for a game-changing shift in your information management approach? Take part in our exciting new series of RIMPA Global Roadshows! Our dynamic event is designed to challenge your existing perceptions by inspiring the way you view IM. With expert presentations, vendor case studies, lively panel discussions, thought-provoking debates, and networking opportunities at the tradeshow, you'll gain unique insights into the future of IM systems and tools.\n
 \n
 Event details: https://www.rimpa.com.au/events/ems-events-calendar/sydney-roadshows.html
PRIORITY:1
END:VEVENT
END:VCALENDAR