BEGIN:VCALENDAR
PRODID:-//Pixl8//Eventfolio//EN
VERSION:2.0
X-WR-TIMEZONE:Australia/Brisbane
CALSCALE:GREGORIAN
METHOD:PUBLISH
CLASS:PUBLIC
BEGIN:VTIMEZONE
TZID:Australia/Brisbane
LAST-MODIFIED:20260306T231828Z
TZURL:https://www.tzurl.org/zoneinfo-outlook/Australia/Brisbane
X-LIC-LOCATION:Australia/Brisbane
BEGIN:STANDARD
TZNAME:AEST
TZOFFSETFROM:+1000
TZOFFSETTO:+1000
DTSTART:19700101T000000
END:STANDARD
END:VTIMEZONE
BEGIN:VEVENT
DTSTART;TZID=Australia/Brisbane:20230728T100000
DTEND;TZID=Australia/Brisbane:20230728T120000
DTSTAMP:20260424T021918Z
UID:{ADCA0543-B41D-4FD1-82B2F1545197612F}
LOCATION:Online - Microsoft Teams
SUMMARY:The Fundamentals of School Records and Information Management
DESCRIPTION:So, what is a record? Isn’t this a question that we ask ourselves? Why do we need to manage records in schools?\n
 \n
 Event details: https://www.rimpa.com.au/events/ems-events-calendar/the-fundamentals-of-school-records-and-information-management.html
PRIORITY:1
END:VEVENT
END:VCALENDAR