BEGIN:VCALENDAR
PRODID:-//Pixl8//Eventfolio//EN
VERSION:2.0
X-WR-TIMEZONE:Australia/Brisbane
CALSCALE:GREGORIAN
METHOD:PUBLISH
CLASS:PUBLIC
BEGIN:VTIMEZONE
TZID:Australia/Brisbane
LAST-MODIFIED:20260306T231828Z
TZURL:https://www.tzurl.org/zoneinfo-outlook/Australia/Brisbane
X-LIC-LOCATION:Australia/Brisbane
BEGIN:STANDARD
TZNAME:AEST
TZOFFSETFROM:+1000
TZOFFSETTO:+1000
DTSTART:19700101T000000
END:STANDARD
END:VTIMEZONE
BEGIN:VEVENT
DTSTART;TZID=Australia/Brisbane:20230614T123000
DTEND;TZID=Australia/Brisbane:20230614T190000
DTSTAMP:20260423T211535Z
UID:{D7523760-DAB2-4447-B6BEA7F9B28A457D.45091}
LOCATION:Burke and Wills Hotel
SUMMARY:Toowoomba | Symposium
DESCRIPTION:Embark on a journey into the future with the Imagining the IM Future program at the upcoming symposium. Unveiling the cutting-edge fusion of imagination and artificial intelligence, join experts as they showcase ground-breaking innovations that redefine our digital landscape. Brace yourself for a thought-provoking experience that will reshape your perception of what's possible. Join us and witness the power of imagination in shaping tomorrow's world.\n
 \n
 Event details: https://www.rimpa.com.au/events/ems-events-calendar/toowoomba-symposium.html
PRIORITY:1
END:VEVENT
BEGIN:VEVENT
DTSTART;TZID=Australia/Brisbane:20230615T090000
DTEND;TZID=Australia/Brisbane:20230615T170000
DTSTAMP:20260423T211535Z
UID:{D7523760-DAB2-4447-B6BEA7F9B28A457D.45092}
LOCATION:Burke and Wills Hotel
SUMMARY:Toowoomba | Symposium
DESCRIPTION:Embark on a journey into the future with the Imagining the IM Future program at the upcoming symposium. Unveiling the cutting-edge fusion of imagination and artificial intelligence, join experts as they showcase ground-breaking innovations that redefine our digital landscape. Brace yourself for a thought-provoking experience that will reshape your perception of what's possible. Join us and witness the power of imagination in shaping tomorrow's world.\n
 \n
 Event details: https://www.rimpa.com.au/events/ems-events-calendar/toowoomba-symposium.html
PRIORITY:1
END:VEVENT
END:VCALENDAR