BEGIN:VCALENDAR
PRODID:-//Pixl8//Eventfolio//EN
VERSION:2.0
X-WR-TIMEZONE:Australia/Brisbane
CALSCALE:GREGORIAN
METHOD:PUBLISH
CLASS:PUBLIC
BEGIN:VTIMEZONE
TZID:Australia/Brisbane
LAST-MODIFIED:20260306T231828Z
TZURL:https://www.tzurl.org/zoneinfo-outlook/Australia/Brisbane
X-LIC-LOCATION:Australia/Brisbane
BEGIN:STANDARD
TZNAME:AEST
TZOFFSETFROM:+1000
TZOFFSETTO:+1000
DTSTART:19700101T000000
END:STANDARD
END:VTIMEZONE
BEGIN:VEVENT
DTSTART;TZID=Australia/Brisbane:20240417T100000
DTEND;TZID=Australia/Brisbane:20240417T130000
DTSTAMP:20260424T164308Z
UID:{ECB20710-8CF1-4BFC-8B45C2550411D029}
LOCATION:Online - Microsoft Teams
SUMMARY:Understanding & Development of Information Asset Register
DESCRIPTION:Understanding information as an asset is vital and understanding how to develop an Information Asset Register can be one of the most useful tools that an organisation can have and implement as a one-stop shop.\n
 \n
 Event details: https://www.rimpa.com.au/events/ems-events-calendar/understanding-development-of-information-asset-register-17-04-2024.html
PRIORITY:1
END:VEVENT
END:VCALENDAR