BEGIN:VCALENDAR
PRODID:-//Pixl8//Eventfolio//EN
VERSION:2.0
X-WR-TIMEZONE:Australia/Melbourne
CALSCALE:GREGORIAN
METHOD:PUBLISH
CLASS:PUBLIC
BEGIN:VTIMEZONE
TZID:Australia/Melbourne
LAST-MODIFIED:20260306T231828Z
TZURL:https://www.tzurl.org/zoneinfo-outlook/Australia/Melbourne
X-LIC-LOCATION:Australia/Melbourne
BEGIN:STANDARD
TZNAME:AEST
TZOFFSETFROM:+1100
TZOFFSETTO:+1000
DTSTART:19700405T030000
RRULE:FREQ=YEARLY;BYMONTH=4;BYDAY=1SU
END:STANDARD
BEGIN:DAYLIGHT
TZNAME:AEDT
TZOFFSETFROM:+1000
TZOFFSETTO:+1100
DTSTART:19701004T020000
RRULE:FREQ=YEARLY;BYMONTH=10;BYDAY=1SU
END:DAYLIGHT
END:VTIMEZONE
BEGIN:VEVENT
DTSTART;TZID=Australia/Melbourne:20230720T103000
DTEND;TZID=Australia/Melbourne:20230720T140000
DTSTAMP:20260423T222323Z
UID:{E9022BAF-DCBE-4666-B7659A50CE4A967A}
LOCATION:Geelong Library & Heritage Centre
SUMMARY:Victorian Local Government Community of Practice
DESCRIPTION:Free Event! Would you like to meet with fellow Local Victorian Government professionals to engage in relevant conversations, share knowledge, and create positive changes?\n
 \n
 Event details: https://www.rimpa.com.au/events/ems-events-calendar/victorian-local-government-community-of-practice.html
PRIORITY:1
END:VEVENT
END:VCALENDAR