BEGIN:VCALENDAR
PRODID:-//Pixl8//Eventfolio//EN
VERSION:2.0
X-WR-TIMEZONE:Australia/Brisbane
CALSCALE:GREGORIAN
METHOD:PUBLISH
CLASS:PUBLIC
BEGIN:VTIMEZONE
TZID:Australia/Brisbane
LAST-MODIFIED:20260306T231828Z
TZURL:https://www.tzurl.org/zoneinfo-outlook/Australia/Brisbane
X-LIC-LOCATION:Australia/Brisbane
BEGIN:STANDARD
TZNAME:AEST
TZOFFSETFROM:+1000
TZOFFSETTO:+1000
DTSTART:19700101T000000
END:STANDARD
END:VTIMEZONE
BEGIN:VEVENT
DTSTART;TZID=Australia/Brisbane:20260519T110000
DTEND;TZID=Australia/Brisbane:20260519T120000
DTSTAMP:20260422T055058Z
UID:{8E5DCFD0-5F60-4CCD-A3EFC0E42879B022}
LOCATION:Microsoft Teams 
SUMMARY:Webinar | Aligning Information Management and Data Management Practices
DESCRIPTION:Bridge information and data management practices to make AI-ready decisions with confidence. Learn how shared definitions, metadata, classification, and retention controls reduce risk, strengthen trust, and turn information and data into strategic assets.\n
 \n
 Event details: https://www.rimpa.com.au/events/ems-events-calendar/webinar-aligning-information-management-and-data-management-practices.html
PRIORITY:1
END:VEVENT
END:VCALENDAR