BEGIN:VCALENDAR
PRODID:-//Pixl8//Eventfolio//EN
VERSION:2.0
X-WR-TIMEZONE:Australia/Brisbane
CALSCALE:GREGORIAN
METHOD:PUBLISH
CLASS:PUBLIC
BEGIN:VTIMEZONE
TZID:Australia/Brisbane
LAST-MODIFIED:20260306T231828Z
TZURL:https://www.tzurl.org/zoneinfo-outlook/Australia/Brisbane
X-LIC-LOCATION:Australia/Brisbane
BEGIN:STANDARD
TZNAME:AEST
TZOFFSETFROM:+1000
TZOFFSETTO:+1000
DTSTART:19700101T000000
END:STANDARD
END:VTIMEZONE
BEGIN:VEVENT
DTSTART;TZID=Australia/Brisbane:20231025T110000
DTEND;TZID=Australia/Brisbane:20231025T113000
DTSTAMP:20260423T211649Z
UID:{D389244D-F235-466B-B4B6C23E78B7DF6B}
LOCATION:Microsoft Teams 
SUMMARY:Webinar | Elevating Information Asset Management With Grace
DESCRIPTION:Discover the key to secure custody and control of your information assets with Grace, an industry leader in records storage and management. Join our webinar to rethink document storage, digitisation, and ensure defensible disposition. Elevate your record management game with Grace`s smart and sustainable solutions. Secure your spot now!\n
 \n
 Event details: https://www.rimpa.com.au/events/ems-events-calendar/webinar-elevating-information-asset-management-with-grace.html
PRIORITY:1
END:VEVENT
END:VCALENDAR