BEGIN:VCALENDAR
PRODID:-//Pixl8//Eventfolio//EN
VERSION:2.0
X-WR-TIMEZONE:Australia/Brisbane
CALSCALE:GREGORIAN
METHOD:PUBLISH
CLASS:PUBLIC
BEGIN:VTIMEZONE
TZID:Australia/Brisbane
LAST-MODIFIED:20260306T231828Z
TZURL:https://www.tzurl.org/zoneinfo-outlook/Australia/Brisbane
X-LIC-LOCATION:Australia/Brisbane
BEGIN:STANDARD
TZNAME:AEST
TZOFFSETFROM:+1000
TZOFFSETTO:+1000
DTSTART:19700101T000000
END:STANDARD
END:VTIMEZONE
BEGIN:VEVENT
DTSTART;TZID=Australia/Brisbane:20240514T110000
DTEND;TZID=Australia/Brisbane:20240514T120000
DTSTAMP:20260424T021820Z
UID:{0EA268D0-A1B9-484D-B76A4E7143D355C7}
LOCATION:Microsoft Teams 
SUMMARY:Webinar | Maximise Your Membership: Key Engagement Strategies
DESCRIPTION:Join our dynamic webinar to unlock the full potential of your membership. Discover practical tips for maximising benefits, engaging in community activities, and expanding your professional network. Delve into an insightful session designed to enhance your membership experience and deepen your involvement!\n
 \n
 Event details: https://www.rimpa.com.au/events/ems-events-calendar/webinar-maximise-your-membership-key-engagement-strategies.html
PRIORITY:1
END:VEVENT
END:VCALENDAR