BEGIN:VCALENDAR
PRODID:-//Pixl8//Eventfolio//EN
VERSION:2.0
X-WR-TIMEZONE:Pacific/Auckland
CALSCALE:GREGORIAN
METHOD:PUBLISH
CLASS:PUBLIC
BEGIN:VTIMEZONE
TZID:Pacific/Auckland
LAST-MODIFIED:20260306T231828Z
TZURL:https://www.tzurl.org/zoneinfo-outlook/Pacific/Auckland
X-LIC-LOCATION:Pacific/Auckland
BEGIN:DAYLIGHT
TZNAME:NZDT
TZOFFSETFROM:+1200
TZOFFSETTO:+1300
DTSTART:19700927T020000
RRULE:FREQ=YEARLY;BYMONTH=9;BYDAY=-1SU
END:DAYLIGHT
BEGIN:STANDARD
TZNAME:NZST
TZOFFSETFROM:+1300
TZOFFSETTO:+1200
DTSTART:19700405T030000
RRULE:FREQ=YEARLY;BYMONTH=4;BYDAY=1SU
END:STANDARD
END:VTIMEZONE
BEGIN:VEVENT
DTSTART;TZID=Pacific/Auckland:20250612T083000
DTEND;TZID=Pacific/Auckland:20250612T160000
DTSTAMP:20260424T034304Z
UID:{0D3042A0-30C9-4ADC-A5498084A0190120.45820}
LOCATION:Te Papa Museum\, 55 Cable Street\, PO Box 467\, Wellington\, 6011\, New Zealand
SUMMARY:Wellington | Roadshow
DESCRIPTION:Join the RIMPA Roadshow, a one-day conference focused on protecting your organisation's data and privacy. Learn from experts, participate in workshop, to outsmart cyber threats, neutralise risks, and safeguard your organisation’s records with a License to Protect. Register now!\n
 \n
 Event details: https://www.rimpa.com.au/events/ems-events-calendar/wellington--roadshow.html
PRIORITY:1
END:VEVENT
END:VCALENDAR