BEGIN:VCALENDAR
PRODID:-//Pixl8//Eventfolio//EN
VERSION:2.0
X-WR-TIMEZONE:Pacific/Auckland
CALSCALE:GREGORIAN
METHOD:PUBLISH
CLASS:PUBLIC
BEGIN:VTIMEZONE
TZID:Pacific/Auckland
LAST-MODIFIED:20260306T231828Z
TZURL:https://www.tzurl.org/zoneinfo-outlook/Pacific/Auckland
X-LIC-LOCATION:Pacific/Auckland
BEGIN:DAYLIGHT
TZNAME:NZDT
TZOFFSETFROM:+1200
TZOFFSETTO:+1300
DTSTART:19700927T020000
RRULE:FREQ=YEARLY;BYMONTH=9;BYDAY=-1SU
END:DAYLIGHT
BEGIN:STANDARD
TZNAME:NZST
TZOFFSETFROM:+1300
TZOFFSETTO:+1200
DTSTART:19700405T030000
RRULE:FREQ=YEARLY;BYMONTH=4;BYDAY=1SU
END:STANDARD
END:VTIMEZONE
BEGIN:VEVENT
DTSTART;TZID=Pacific/Auckland:20230907T083000
DTEND;TZID=Pacific/Auckland:20230907T174500
DTSTAMP:20260423T210807Z
UID:{D4588DFD-EB4F-4BBE-BCAE9BDC8D7E257C.45176}
LOCATION:Museum of New Zealand Te Papa Tongarewa
SUMMARY:Wellington | Roadshow
DESCRIPTION:Are you ready for a game-changing shift in your information management approach? RIMPA Global and ARANZ have curated a lineup of exceptional presentations and workshops that will empower you with insights and strategies to excel in today's dynamic landscape! Our dynamic event is designed to challenge your existing perceptions by inspiring the way you view IM. With expert presentations, case studies, lively panel discussions, thought-provoking speakers, and networking opportunities at the tradeshow, you'll gain unique insights into the future of IM systems and tools.\n
 \n
 Event details: https://www.rimpa.com.au/events/ems-events-calendar/wellington-roadshows.html
PRIORITY:1
END:VEVENT
END:VCALENDAR