BEGIN:VCALENDAR
PRODID:-//Pixl8//Eventfolio//EN
VERSION:2.0
X-WR-TIMEZONE:Australia/Brisbane
CALSCALE:GREGORIAN
METHOD:PUBLISH
CLASS:PUBLIC
BEGIN:VTIMEZONE
TZID:Australia/Brisbane
LAST-MODIFIED:20260306T231828Z
TZURL:https://www.tzurl.org/zoneinfo-outlook/Australia/Brisbane
X-LIC-LOCATION:Australia/Brisbane
BEGIN:STANDARD
TZNAME:AEST
TZOFFSETFROM:+1000
TZOFFSETTO:+1000
DTSTART:19700101T000000
END:STANDARD
END:VTIMEZONE
BEGIN:VEVENT
DTSTART;TZID=Australia/Brisbane:20230420T090000
DTEND;TZID=Australia/Brisbane:20230420T120000
DTSTAMP:20260423T210431Z
UID:{8C685655-CF46-4975-A90EE6D6E39F450B}
LOCATION:Online - Microsoft Teams
SUMMARY:Writing Effective Policy 
DESCRIPTION:Policies written effectively ensure clarity and the right interpretation.\n
 \n
 Event details: https://www.rimpa.com.au/events/ems-events-calendar/writing-effective-policy.html
PRIORITY:1
END:VEVENT
END:VCALENDAR