BEGIN:VCALENDAR
PRODID:-//Pixl8//Eventfolio//EN
VERSION:2.0
X-WR-TIMEZONE:Australia/Brisbane
CALSCALE:GREGORIAN
METHOD:PUBLISH
CLASS:PUBLIC
BEGIN:VTIMEZONE
TZID:Australia/Brisbane
LAST-MODIFIED:20260306T231828Z
TZURL:https://www.tzurl.org/zoneinfo-outlook/Australia/Brisbane
X-LIC-LOCATION:Australia/Brisbane
BEGIN:STANDARD
TZNAME:AEST
TZOFFSETFROM:+1000
TZOFFSETTO:+1000
DTSTART:19700101T000000
END:STANDARD
END:VTIMEZONE
BEGIN:VEVENT
DTSTART;TZID=Australia/Brisbane:20230330T110000
DTEND;TZID=Australia/Brisbane:20230330T140000
DTSTAMP:20260423T210808Z
UID:{673D3BA0-A89B-4F13-A2A01504ED7426F3}
LOCATION:Online - Microsoft Teams
SUMMARY:Writing Effective Policy 
DESCRIPTION:Event details: https://www.rimpa.com.au/events/ems-events-calendar/writing-effective-policy-30032023.html
PRIORITY:1
END:VEVENT
END:VCALENDAR